BEGIN:VCALENDAR
VERSION:2.0
PRODID:-//Xtreme Fast Draw America - ECPv6.15.20//NONSGML v1.0//EN
CALSCALE:GREGORIAN
METHOD:PUBLISH
X-WR-CALNAME:Xtreme Fast Draw America
X-ORIGINAL-URL:https://www.xfdapro.com
X-WR-CALDESC:Events for Xtreme Fast Draw America
REFRESH-INTERVAL;VALUE=DURATION:PT1H
X-Robots-Tag:noindex
X-PUBLISHED-TTL:PT1H
BEGIN:VTIMEZONE
TZID:America/Chicago
BEGIN:DAYLIGHT
TZOFFSETFROM:-0600
TZOFFSETTO:-0500
TZNAME:CDT
DTSTART:20240310T080000
END:DAYLIGHT
BEGIN:STANDARD
TZOFFSETFROM:-0500
TZOFFSETTO:-0600
TZNAME:CST
DTSTART:20241103T070000
END:STANDARD
BEGIN:DAYLIGHT
TZOFFSETFROM:-0600
TZOFFSETTO:-0500
TZNAME:CDT
DTSTART:20250309T080000
END:DAYLIGHT
BEGIN:STANDARD
TZOFFSETFROM:-0500
TZOFFSETTO:-0600
TZNAME:CST
DTSTART:20251102T070000
END:STANDARD
BEGIN:DAYLIGHT
TZOFFSETFROM:-0600
TZOFFSETTO:-0500
TZNAME:CDT
DTSTART:20260308T080000
END:DAYLIGHT
BEGIN:STANDARD
TZOFFSETFROM:-0500
TZOFFSETTO:-0600
TZNAME:CST
DTSTART:20261101T070000
END:STANDARD
END:VTIMEZONE
BEGIN:VEVENT
DTSTART;TZID=America/Chicago:20251107T080000
DTEND;TZID=America/Chicago:20251109T160000
DTSTAMP:20260419T102217
CREATED:20250122T190351Z
LAST-MODIFIED:20251106T192526Z
UID:10000020-1762502400-1762704000@www.xfdapro.com
SUMMARY:ARKANSAS STATE 2025/26
DESCRIPTION:About the event:\n \n50/50 1PM FRIDAY -$35\nREGISTRATION FRIDAY: FROM 7AM\nREGISTRATION SATURDAY 7-7.30AM\nTOES ON THE LINE AT 9AM SAT & SUNDAY \n \nFRIDAY FOOD: Chilli & hotdogs will be provided.\nSATURDAY: FOOD: Wraps and Sandwiches Catered at $11 per plate for lunch.\nAreas to stay: Paragould or Pocahontas.\n\nLocation\nNov 7\, 2025 – Nov 9\, 2025 \nWallin Agri Aviation\n962 Lawrence Rd 612\nWalnut Ridge\, AR 72476
URL:https://www.xfdapro.com/event/arkansas-state-2025/
LOCATION:Barn Storming Bandits\, Wallin Agri Aviation 962 Lawrence Rd 612 Walnut Ridge\, AR\, 72476\, United States
ATTACH;FMTTYPE=image/jpeg:https://www.xfdapro.com/wp-content/uploads/2025/01/APR-South-Texas-State.jpg
END:VEVENT
END:VCALENDAR