BEGIN:VCALENDAR
VERSION:2.0
PRODID:-//Xtreme Fast Draw America - ECPv6.15.20//NONSGML v1.0//EN
CALSCALE:GREGORIAN
METHOD:PUBLISH
X-WR-CALNAME:Xtreme Fast Draw America
X-ORIGINAL-URL:https://www.xfdapro.com
X-WR-CALDESC:Events for Xtreme Fast Draw America
REFRESH-INTERVAL;VALUE=DURATION:PT1H
X-Robots-Tag:noindex
X-PUBLISHED-TTL:PT1H
BEGIN:VTIMEZONE
TZID:America/Chicago
BEGIN:DAYLIGHT
TZOFFSETFROM:-0600
TZOFFSETTO:-0500
TZNAME:CDT
DTSTART:20260308T080000
END:DAYLIGHT
BEGIN:STANDARD
TZOFFSETFROM:-0500
TZOFFSETTO:-0600
TZNAME:CST
DTSTART:20261101T070000
END:STANDARD
BEGIN:DAYLIGHT
TZOFFSETFROM:-0600
TZOFFSETTO:-0500
TZNAME:CDT
DTSTART:20270314T080000
END:DAYLIGHT
BEGIN:STANDARD
TZOFFSETFROM:-0500
TZOFFSETTO:-0600
TZNAME:CST
DTSTART:20271107T070000
END:STANDARD
BEGIN:DAYLIGHT
TZOFFSETFROM:-0600
TZOFFSETTO:-0500
TZNAME:CDT
DTSTART:20280312T080000
END:DAYLIGHT
BEGIN:STANDARD
TZOFFSETFROM:-0500
TZOFFSETTO:-0600
TZNAME:CST
DTSTART:20281105T070000
END:STANDARD
END:VTIMEZONE
BEGIN:VEVENT
DTSTART;TZID=America/Chicago:20270327T080000
DTEND;TZID=America/Chicago:20270328T160000
DTSTAMP:20260422T082822
CREATED:20251124T180657Z
LAST-MODIFIED:20251201T112932Z
UID:10000041-1806134400-1806249600@www.xfdapro.com
SUMMARY:20 POINT SHOOT - GUNBELT WAGONEERS
DESCRIPTION:Time & Location\nMarch 27th-28th 2027\nLocation: The GunBelt \n\nAbout the event \nPlease bring your own chairs\, and tables will be provided.\nPlease don’t park on the grass if it’s wet.
URL:https://www.xfdapro.com/event/20-point-shoot-gunbelt-wagoneers/
LOCATION:The Gunbelt Wagoneers 4120 Austin Cirlcle Sanger Texas\, 76266\, 4120 Austin Circle\, Sanger\, TX\, 76266\, United States
ATTACH;FMTTYPE=image/jpeg:https://www.xfdapro.com/wp-content/uploads/2025/11/FEB-2025-The-Gunbelt-Wagoneers-Point-Shoot-4.jpg
END:VEVENT
BEGIN:VEVENT
DTSTART;TZID=America/Chicago:20270409T080000
DTEND;TZID=America/Chicago:20270411T170000
DTSTAMP:20260422T082822
CREATED:20260204T211235Z
LAST-MODIFIED:20260204T211516Z
UID:10000047-1807257600-1807462800@www.xfdapro.com
SUMMARY:SOUTH EAST TEXAS STATE
DESCRIPTION:Time & Location\nApril 9th – 11th 2027 \nLocation: TBC \nAbout the event\nTBC
URL:https://www.xfdapro.com/event/south-east-texas-state/
LOCATION:Texas Speed Bumps\, 130 Whispering Oak\, Lumberton\, TEXAS\, 77657\, United States
ATTACH;FMTTYPE=image/jpeg:https://www.xfdapro.com/wp-content/uploads/2026/02/SOUTH-EAST-TEXAS-STATE-2026.jpg
END:VEVENT
BEGIN:VEVENT
DTSTART;TZID=America/Chicago:20270507T080000
DTEND;TZID=America/Chicago:20270509T160000
DTSTAMP:20260422T082822
CREATED:20251218T124158Z
LAST-MODIFIED:20251218T124158Z
UID:10000045-1809676800-1809878400@www.xfdapro.com
SUMMARY:KANSAS STATE 2027
DESCRIPTION:THE KANSAS PEACE MAKERS\nKANSAS STATE 2027 \nDate & Location:\nMay 7th -9th 25 – Kansas Peace Makers Range\n33864 Tower\, Rd\, Kansas\, 67005 \nAbout the event: \nSaturday: Registration is 7:30-8:30\nPractice is 8:30- 9:00\nTOES ON THE LINE AT 9:30am
URL:https://www.xfdapro.com/event/kansas-state-2027/
LOCATION:The Kansas Peace Makers Range\, 33864 Tower\, Rd.  Arkansas City\, Ks.\, 33864 Tower\, Rd\, Kansas\, 67005\, United States
ATTACH;FMTTYPE=image/jpeg:https://www.xfdapro.com/wp-content/uploads/2025/12/KANSAS-STATE-2027-5.jpg
END:VEVENT
BEGIN:VEVENT
DTSTART;TZID=America/Chicago:20270618T080000
DTEND;TZID=America/Chicago:20270620T170000
DTSTAMP:20260422T082822
CREATED:20251203T153059Z
LAST-MODIFIED:20260320T131759Z
UID:10000042-1813305600-1813510800@www.xfdapro.com
SUMMARY:ALABAMA GUNSLINGERS - DISTRICT 2
DESCRIPTION:Time & Location\nJune 18\, 8am 2027 – June 20\, 4:00pm 2027\nLocation: 410 County Road 513 Centre Alabama 35960 \n  \nAbout the event:\nTBC
URL:https://www.xfdapro.com/event/alabama-gunslingers-district-2/
LOCATION:Alabama Gunslingers\, 410 County Road 513 Centre\, AL\, 35960\, United States
ATTACH;FMTTYPE=image/jpeg:https://www.xfdapro.com/wp-content/uploads/2025/12/alabama.jpg
END:VEVENT
BEGIN:VEVENT
DTSTART;TZID=America/Chicago:20270709T080000
DTEND;TZID=America/Chicago:20270711T160000
DTSTAMP:20260422T082822
CREATED:20260415T084012Z
LAST-MODIFIED:20260415T103240Z
UID:10000049-1815120000-1815321600@www.xfdapro.com
SUMMARY:NEW MEXICO STATE 2027
DESCRIPTION:We will add information to this event ASAP as we get them. \nTime & Location\nTBC \n  \nAbout the event \nTBC
URL:https://www.xfdapro.com/event/new-mexico-state-2027/
LOCATION:NRA WHITTINGTON CENTER\, Route 64-87-N.M. 555\,\, Raton\, New Mexico\, 87740\, United States
ATTACH;FMTTYPE=image/jpeg:https://www.xfdapro.com/wp-content/uploads/2026/04/NEW-MEXICO-STATE3.jpg
END:VEVENT
BEGIN:VEVENT
DTSTART;TZID=America/Chicago:20270806T080000
DTEND;TZID=America/Chicago:20270808T170000
DTSTAMP:20260422T082822
CREATED:20260415T084348Z
LAST-MODIFIED:20260415T103206Z
UID:10000050-1817539200-1817744400@www.xfdapro.com
SUMMARY:NATIONALS 2027
DESCRIPTION:We will add information to this event ASAP as we get them. \nTime & Location\nTBC \n  \nAbout the event \nTBC
URL:https://www.xfdapro.com/event/nationals-2027/
ATTACH;FMTTYPE=image/jpeg:https://www.xfdapro.com/wp-content/uploads/2026/04/NATIONALS1.jpg
END:VEVENT
BEGIN:VEVENT
DTSTART;TZID=America/Chicago:20270924T080000
DTEND;TZID=America/Chicago:20270926T160000
DTSTAMP:20260422T082822
CREATED:20260415T102944Z
LAST-MODIFIED:20260415T103115Z
UID:10000052-1821772800-1821974400@www.xfdapro.com
SUMMARY:WORLDS 2027
DESCRIPTION:We will add information to this event ASAP as we get them. \nTime & Location\nTBC \n  \nAbout the event \nTBC
URL:https://www.xfdapro.com/event/worlds-2027/
ATTACH;FMTTYPE=image/png:https://www.xfdapro.com/wp-content/uploads/2026/04/WORLDS-2027-1.png
END:VEVENT
BEGIN:VEVENT
DTSTART;TZID=America/Chicago:20271030T080000
DTEND;TZID=America/Chicago:20271030T160000
DTSTAMP:20260422T082822
CREATED:20260204T200957Z
LAST-MODIFIED:20260320T131909Z
UID:10000046-1824883200-1824912000@www.xfdapro.com
SUMMARY:GHOULS & GUNS - 20 POINT SHOOT
DESCRIPTION:Time & Location\nOct 30th 2027\nRegistration starts at 7:30AM\nMatch begins at 9AM \n  \nLocation: 130 Whispering Oak\, Lumberton\, TX 77657 \n  \nAbout the event\n20 Point Shoot\nFurther Info – TBC
URL:https://www.xfdapro.com/event/ghouls-and-guns-2027/
LOCATION:Texas Speed Bumps\, 130 Whispering Oak\, Lumberton\, TEXAS\, 77657\, United States
ATTACH;FMTTYPE=image/jpeg:https://www.xfdapro.com/wp-content/uploads/2026/02/Ghouls-and-Guns-2027.jpg
END:VEVENT
BEGIN:VEVENT
DTSTART;TZID=America/Chicago:20271204T080000
DTEND;TZID=America/Chicago:20271205T170000
DTSTAMP:20260422T082822
CREATED:20251218T123534Z
LAST-MODIFIED:20251218T123549Z
UID:10000044-1827907200-1828026000@www.xfdapro.com
SUMMARY:BAD SANTA -20 POINT SHOOT
DESCRIPTION:THE KANSAS PEACE MAKERS\nBAD SANTA ANNUAL YEAR 2027 \nDate & Location:\nDec 4th -5th 25 – Kansas Peace Makers Range\n33864 Tower\, Rd\, Kansas\, 67005 \nAbout the event: \nSaturday: Registration is 7:30-8:30\nPractice is 8:30- 9:00\nTOES ON THE LINE AT 9:30am
URL:https://www.xfdapro.com/event/bad-santa-20-point-shoot/
LOCATION:The Kansas Peace Makers Range\, 33864 Tower\, Rd.  Arkansas City\, Ks.\, 33864 Tower\, Rd\, Kansas\, 67005\, United States
ATTACH;FMTTYPE=image/jpeg:https://www.xfdapro.com/wp-content/uploads/2025/12/KANSAS-BAD-SANTA-2027-2.jpg
END:VEVENT
END:VCALENDAR