BEGIN:VCALENDAR
VERSION:2.0
PRODID:-//Xtreme Fast Draw America - ECPv6.15.20//NONSGML v1.0//EN
CALSCALE:GREGORIAN
METHOD:PUBLISH
X-WR-CALNAME:Xtreme Fast Draw America
X-ORIGINAL-URL:https://www.xfdapro.com
X-WR-CALDESC:Events for Xtreme Fast Draw America
REFRESH-INTERVAL;VALUE=DURATION:PT1H
X-Robots-Tag:noindex
X-PUBLISHED-TTL:PT1H
BEGIN:VTIMEZONE
TZID:America/Chicago
BEGIN:DAYLIGHT
TZOFFSETFROM:-0600
TZOFFSETTO:-0500
TZNAME:CDT
DTSTART:20250309T080000
END:DAYLIGHT
BEGIN:STANDARD
TZOFFSETFROM:-0500
TZOFFSETTO:-0600
TZNAME:CST
DTSTART:20251102T070000
END:STANDARD
BEGIN:DAYLIGHT
TZOFFSETFROM:-0600
TZOFFSETTO:-0500
TZNAME:CDT
DTSTART:20260308T080000
END:DAYLIGHT
BEGIN:STANDARD
TZOFFSETFROM:-0500
TZOFFSETTO:-0600
TZNAME:CST
DTSTART:20261101T070000
END:STANDARD
BEGIN:DAYLIGHT
TZOFFSETFROM:-0600
TZOFFSETTO:-0500
TZNAME:CDT
DTSTART:20270314T080000
END:DAYLIGHT
BEGIN:STANDARD
TZOFFSETFROM:-0500
TZOFFSETTO:-0600
TZNAME:CST
DTSTART:20271107T070000
END:STANDARD
BEGIN:DAYLIGHT
TZOFFSETFROM:-0600
TZOFFSETTO:-0500
TZNAME:CDT
DTSTART:20280312T080000
END:DAYLIGHT
BEGIN:STANDARD
TZOFFSETFROM:-0500
TZOFFSETTO:-0600
TZNAME:CST
DTSTART:20281105T070000
END:STANDARD
END:VTIMEZONE
BEGIN:VEVENT
DTSTART;TZID=America/Chicago:20260424T080000
DTEND;TZID=America/Chicago:20260426T160000
DTSTAMP:20260422T063235
CREATED:20250428T191949Z
LAST-MODIFIED:20260323T222105Z
UID:10000027-1777017600-1777219200@www.xfdapro.com
SUMMARY:TEXAS STATE 2026
DESCRIPTION:Time & Location\n \nTime: 9am\nLocation: The Gunbelt Wagoneers\, 4120 Austin Circle\, Sanger\, Texas\, 76266\nPLEASE: Don’t park on the grass if its wet \n  \nAbout the event: \nFriday 24th registration opens at 9 AM\, closes at 10 am\, fun shoot at 10.30 am\, 50/50 shoot starts 1 PM.pm\nSaturday registration opens at 8 am and closes at 9 am. The main match is 7 rounds on Saturday.\nSunday church at 8 am; the main match with the remaining three rounds starts at 9.30 am\, leading into the finals. \nSoft drinks & Snacks will be available free of charge. \nWe will be cooking out Saturday evening so please bring anything you might like to have – Burgers and Hotdogs will be provided. \n\n  \nHotels: Hotel Holiday day inn: 600 Stemmons Way\, Sanger\, TX. 76266 \n\n  \nHosted by: The Moon Shiner Gunslingers & The GunBelt Wagoneers.
URL:https://www.xfdapro.com/event/texas-state-2026/
LOCATION:The Gunbelt Wagoneers 4120 Austin Cirlcle Sanger Texas\, 76266\, 4120 Austin Circle\, Sanger\, TX\, 76266\, United States
ATTACH;FMTTYPE=image/jpeg:https://www.xfdapro.com/wp-content/uploads/2025/04/TEXAS-STATE-2026-2.jpg
END:VEVENT
BEGIN:VEVENT
DTSTART;TZID=America/Chicago:20260508T080000
DTEND;TZID=America/Chicago:20260510T160000
DTSTAMP:20260422T063235
CREATED:20250520T201313Z
LAST-MODIFIED:20260421T083343Z
UID:10000032-1778227200-1778428800@www.xfdapro.com
SUMMARY:KANSAS STATE 2026
DESCRIPTION:Time & Location\n8th May-10th may 2026\nLocation: The Kansas Peace Makers Range\, 33864 Tower\, Rd\, Arkansas City\, Ks. \n  \nAbout the event \n  \nFriday-May 8th \nRegistration starts at 12:00…SHOOTERS ARE WELCOME ANYTIME FRIDAY MORNING. \n50/50 EVENT STARTS AT 1:00….Followed by: Lights Out & Sling Shot \nLunch will be provided.  Reservations for Saturday night dinner are at La Fiesta in Ark City at 6pm. \nSaturday-May 9 \nRegistration starts at 8am \nMain Match begins at 9:30 am   we will be shooting 7 rounds\, followed by 2 games\, Darts & Bullseye \nBreakfast and lunch will be provided. A cookout for dinner at Pat & Dave’s will follow after the games. \nSunday- May 10 Mother’s Day \nBreakfast & lunch will be provided \nCowboy Church 8am \n9:30am\, final 3 rounds…followed by placements for the finals and lastly\, “THE TOP 10 MEN AND TOP 5 LADIES SHOOT FOR THE TITLE”. \nLODGING \n7 CLANS…12875 US HWY Newkirk\, Ok. (877) 725-2670 \nBest Western…6100 Patterson Parkway\, Ark City\, Ks.    (620) 307-6767 \nQuality Inn 3232 N. Summit   Ark City\, Ks.  (620) 307-5842 \n 
URL:https://www.xfdapro.com/event/kansas-state-2026/
LOCATION:The Kansas Peace Makers Range\, 33864 Tower\, Rd.  Arkansas City\, Ks.\, 33864 Tower\, Rd\, Kansas\, 67005\, United States
ATTACH;FMTTYPE=image/jpeg:https://www.xfdapro.com/wp-content/uploads/2025/05/MAY-Kansas-State-1.jpg
END:VEVENT
BEGIN:VEVENT
DTSTART;TZID=America/Chicago:20260523T080000
DTEND;TZID=America/Chicago:20260524T160000
DTSTAMP:20260422T063235
CREATED:20250428T185215Z
LAST-MODIFIED:20251123T092244Z
UID:10000025-1779523200-1779638400@www.xfdapro.com
SUMMARY:GUNBELT WAGONEERS 20 POINT SHOOT 2026
DESCRIPTION:About the event: \nIn celebration of memorial day weekend\, we will be honoring our Veterans & 1st responders at this 20 point Shoot. \nSat: – Registration 8:00am-8:30am\nSat – 9:00 am Main Match 9 rounds\nSun – 9 am – Main Match final 3 rounds then top 10 finals \nEntry fee $45\nSnacks & refreshments provided.
URL:https://www.xfdapro.com/event/gunbelt-wagoneers-point-shoot-2026/
LOCATION:Sanger\, 4120 Austin Cir\, Sanger\, TX\, 76266\, United States
ATTACH;FMTTYPE=image/jpeg:https://www.xfdapro.com/wp-content/uploads/2025/04/FEB-2025-The-Gunbelt-Wagoneers-Point-Shoot-2.jpg
END:VEVENT
BEGIN:VEVENT
DTSTART;TZID=America/Chicago:20260605T080000
DTEND;TZID=America/Chicago:20260607T160000
DTSTAMP:20260422T063235
CREATED:20250312T194945Z
LAST-MODIFIED:20260116T181924Z
UID:10000023-1780646400-1780848000@www.xfdapro.com
SUMMARY:TEXAS 66 2026
DESCRIPTION:Texas 66 Fast Draw Championships 2026 \n\nTime & Location \n5th-7th June 2025 \nTri State Fair Rex Baxter Building\n3401 SE 10th Ave\, Amarillo\, TX 79104 \n  \nAbout the event \n30 points championship \nSaturday\, June 6th cattle drive at 10 am. We will be in the cattle drive and have 4 shootouts along the route\nVideo link of past Cattle drives\, the shootout is near the end of the video.  https://www.youtube.com/watch?v=nRKH0gKxWKI \nConcessions stand will be open at the Rex Baxter from 8 am – till 2 pm Friday through Sunday. \n  \nCash and Buckle to 1st place Men and Ladies\nCash and Concho 2-5 Men 2-3 Ladies\nCash and Trophy 6-10 Men 4-5 Ladies (Cash if 30+shooters) \n  \nFriday:\n8:00 am Setup and Registration opens\n9:30 am Registration closes\n10:00 am Jackpot 50/50 Match begins 10 rounds\n3:00 pm Celebrity shoot-off\nFinish 50/50 after Celebrity shoot off (if needed). \n  \nSaturday:\n9:00 am Cattle Drive line up (corner of SW 12th Ave and S Polk St.) if you want to be in the shootout and or cattle drive contact Kid Curry.\n9:00 am Registration opens\n10:30 am Registration closes\n11:00 am Main Match begins 7 rounds \n  \nSunday:\n8:00 am church\n8:30 am Main Match final 3 rounds\nTop 10 finals \n  \nTargets will be Blockers \n  \nHotels:\nHampton Inn & Suites Amarillo East\n7777 I-40\, Amarillo\, TX 79118\n(806) 418-2000\nRate TBC \n  \nDays Inn by Wyndham Amarillo East\nGroup Name Route 66 Championship\n1701 E Interstate Dr\, Amarillo\, TX 79102\n(806) 414-6812\nRate: $64\, Group name “XFDA” \n  \nHosted by: Texas Panhandle Pistoleros\, and Gunslinger Ranch
URL:https://www.xfdapro.com/event/texas-66-2026/
LOCATION:Tri State Fair Rex Baxter Building\, 3401 SE 10th Ave\, Amarillo\, TX\, 79104\, United States
ATTACH;FMTTYPE=image/png:https://www.xfdapro.com/wp-content/uploads/2025/03/JUNE-TEXAS-66.png
END:VEVENT
BEGIN:VEVENT
DTSTART;TZID=America/Chicago:20260619T080000
DTEND;TZID=America/Chicago:20260619T180000
DTSTAMP:20260422T063235
CREATED:20260315T100336Z
LAST-MODIFIED:20260315T123935Z
UID:10000048-1781856000-1781892000@www.xfdapro.com
SUMMARY:SET SPEEDBUMPS WORLDS FUNDRAISER
DESCRIPTION:South East Texas Speed bumps Worlds Fundraiser \n\nTime & Location\nJune 19th 2026\nRegistration starts at 8AM\nMatch begins at 9AM \n  \nAbout the event\nNumber of rounds with depend on entries.\nFinals at 4:30PM\n6PM Dinner & Games -$25 per person.
URL:https://www.xfdapro.com/event/set-speedbumps-worlds-fundraiser/
ATTACH;FMTTYPE=image/jpeg:https://www.xfdapro.com/wp-content/uploads/2026/03/fundraiser.jpeg
END:VEVENT
BEGIN:VEVENT
DTSTART;TZID=America/Chicago:20260710T080000
DTEND;TZID=America/Chicago:20260712T160000
DTSTAMP:20260422T063235
CREATED:20250706T173616Z
LAST-MODIFIED:20250706T174009Z
UID:10000034-1783670400-1783872000@www.xfdapro.com
SUMMARY:DISTRICT 4 2026
DESCRIPTION:Time & Location\nJuly 10\, 2026 – July 12\, 2026\,\nLocation: The Kansas Peace Makers Range\, 33864 Tower\, Rd\, Arkansas City\, Ks. \n  \nAbout the event:\nTBC
URL:https://www.xfdapro.com/event/district-4-2026/
LOCATION:The Kansas Peace Makers Range\, 33864 Tower\, Rd.  Arkansas City\, Ks.\, 33864 Tower\, Rd\, Kansas\, 67005\, United States
ATTACH;FMTTYPE=image/jpeg:https://www.xfdapro.com/wp-content/uploads/2025/07/Kansa-district-45.jpg
END:VEVENT
BEGIN:VEVENT
DTSTART;TZID=America/Chicago:20260801T080000
DTEND;TZID=America/Chicago:20260802T160000
DTSTAMP:20260422T063235
CREATED:20250715T213201Z
LAST-MODIFIED:20260206T220630Z
UID:10000037-1785571200-1785686400@www.xfdapro.com
SUMMARY:NATIONALS 2026
DESCRIPTION:Time & Location\nAug 1st\, 2026\, 8:00 AM – Aug 02\, 2026\, 4:00 PM \nAbout the Event:\nTBC \n  \n 
URL:https://www.xfdapro.com/event/nationals-2026/
LOCATION:50 WEST\, 104 W Mcart St\, Krum\, TX\, 76249\, 50 WEST\, 104 W Mcart St\, Krum\, TX\,\, Krum\, TX\, 76249\, United States
ATTACH;FMTTYPE=image/jpeg:https://www.xfdapro.com/wp-content/uploads/2025/07/JULY-NATIONALS-5.jpg
END:VEVENT
BEGIN:VEVENT
DTSTART;TZID=America/Chicago:20260918T080000
DTEND;TZID=America/Chicago:20260920T160000
DTSTAMP:20260422T063235
CREATED:20250715T212528Z
LAST-MODIFIED:20260206T221343Z
UID:10000036-1789718400-1789920000@www.xfdapro.com
SUMMARY:WORLD FINALS 2026
DESCRIPTION:World Finals Championship 2026 \n  \nTime & Location\nSept 17\, 2026 – Sept 20\, 2026\,
URL:https://www.xfdapro.com/event/world-finals-2026/
LOCATION:50 WEST\, 104 W Mcart St\, Krum\, TX\, 76249\, 50 WEST\, 104 W Mcart St\, Krum\, TX\,\, Krum\, TX\, 76249\, United States
ATTACH;FMTTYPE=image/jpeg:https://www.xfdapro.com/wp-content/uploads/2025/07/JULY-NATIONALS-1.jpg
END:VEVENT
BEGIN:VEVENT
DTSTART;TZID=America/Chicago:20261016T080000
DTEND;TZID=America/Chicago:20261018T160000
DTSTAMP:20260422T063235
CREATED:20251111T193441Z
LAST-MODIFIED:20251218T131917Z
UID:10000039-1792137600-1792339200@www.xfdapro.com
SUMMARY:OKLAHOMA STATE
DESCRIPTION:Time & Location\nOct 16th-178h 2026\nLocation: Riverbend Arena & Event Center.\n12900 E. 600 Rd\, Inola\, Oklahoma  74036 \n  \nAbout the event \nTBC
URL:https://www.xfdapro.com/event/oklahoma-state/
LOCATION:Verdigris Valley Vaqueros\, 12900 E 600 Rd Inola\, OKLAHOMA\, 74036 \, United States
ATTACH;FMTTYPE=image/jpeg:https://www.xfdapro.com/wp-content/uploads/2025/11/OKLAHOMA-STATE-2026.jpg
END:VEVENT
BEGIN:VEVENT
DTSTART;TZID=America/Chicago:20261024T080000
DTEND;TZID=America/Chicago:20261024T160000
DTSTAMP:20260422T063235
CREATED:20251111T192956Z
LAST-MODIFIED:20251126T191944Z
UID:10000038-1792828800-1792857600@www.xfdapro.com
SUMMARY:GHOULS & GUNS - 20 POINT SHOOT
DESCRIPTION:Time & Location\nOct 24th 2026\nRegistration starts at 7:30AM\nMatch begins at 9AM \n  \nLocation: 130 Whispering Oak\, Lumberton\, TX 77657 \n  \nAbout the event\nLights out match – 7 rounds/finals\nAwards/cash top 3\nBest Costume Man/Woman & Best couple costume\nLunch provided
URL:https://www.xfdapro.com/event/ghouls-guns-20-point-shoot/
LOCATION:Texas Speed Bumps\, 130 Whispering Oak\, Lumberton\, TEXAS\, 77657\, United States
ATTACH;FMTTYPE=image/jpeg:https://www.xfdapro.com/wp-content/uploads/2025/11/Unknown.jpeg
END:VEVENT
BEGIN:VEVENT
DTSTART;TZID=America/Chicago:20261106T080000
DTEND;TZID=America/Chicago:20261108T160000
DTSTAMP:20260422T063235
CREATED:20250518T190333Z
LAST-MODIFIED:20251128T194049Z
UID:10000031-1793952000-1794153600@www.xfdapro.com
SUMMARY:ARKANSAS STATE 2026
DESCRIPTION:Time & Location\nNov 06\, 8am 2025 – Nov 08\, 4:00pm 2026\nGreene County Fairgrounds \nAbout the event:\nTBC
URL:https://www.xfdapro.com/event/arkansas-state-2026/
LOCATION:Greene County Fairgrounds\, 1108 Highway 49B\,\, Paragould\, AR\, 72450\, United States
ATTACH;FMTTYPE=image/jpeg:https://www.xfdapro.com/wp-content/uploads/2025/05/JULY-NATIONALS.jpg
END:VEVENT
BEGIN:VEVENT
DTSTART;TZID=America/Chicago:20261205T080000
DTEND;TZID=America/Chicago:20261206T170000
DTSTAMP:20260422T063235
CREATED:20251123T092616Z
LAST-MODIFIED:20251123T092635Z
UID:10000040-1796457600-1796576400@www.xfdapro.com
SUMMARY:THE KANSAS PEACEMAKERS- BAD SANTA
DESCRIPTION:THE KANSAS PEACE MAKERS\nBAD SANTA 26/27 \nDate & Location:\nDec 5th -6th 25 – Kansas Peace Makers Range\n33864 Tower\, Rd\, Kansas\, 67005 \nAbout the event: \nSaturday: Registration is 7:30-8:30\nPractice is 8:30- 9:00\nTOES ON THE LINE AT 9:30am
URL:https://www.xfdapro.com/event/bad-santa/
LOCATION:The Kansas Peace Makers Range\, 33864 Tower\, Rd.  Arkansas City\, Ks.\, 33864 Tower\, Rd\, Kansas\, 67005\, United States
ATTACH;FMTTYPE=image/jpeg:https://www.xfdapro.com/wp-content/uploads/2025/11/JULY-NATIONALS-6.jpg
END:VEVENT
BEGIN:VEVENT
DTSTART;TZID=America/Chicago:20270327T080000
DTEND;TZID=America/Chicago:20270328T160000
DTSTAMP:20260422T063235
CREATED:20251124T180657Z
LAST-MODIFIED:20251201T112932Z
UID:10000041-1806134400-1806249600@www.xfdapro.com
SUMMARY:20 POINT SHOOT - GUNBELT WAGONEERS
DESCRIPTION:Time & Location\nMarch 27th-28th 2027\nLocation: The GunBelt \n\nAbout the event \nPlease bring your own chairs\, and tables will be provided.\nPlease don’t park on the grass if it’s wet.
URL:https://www.xfdapro.com/event/20-point-shoot-gunbelt-wagoneers/
LOCATION:The Gunbelt Wagoneers 4120 Austin Cirlcle Sanger Texas\, 76266\, 4120 Austin Circle\, Sanger\, TX\, 76266\, United States
ATTACH;FMTTYPE=image/jpeg:https://www.xfdapro.com/wp-content/uploads/2025/11/FEB-2025-The-Gunbelt-Wagoneers-Point-Shoot-4.jpg
END:VEVENT
BEGIN:VEVENT
DTSTART;TZID=America/Chicago:20270409T080000
DTEND;TZID=America/Chicago:20270411T170000
DTSTAMP:20260422T063235
CREATED:20260204T211235Z
LAST-MODIFIED:20260204T211516Z
UID:10000047-1807257600-1807462800@www.xfdapro.com
SUMMARY:SOUTH EAST TEXAS STATE
DESCRIPTION:Time & Location\nApril 9th – 11th 2027 \nLocation: TBC \nAbout the event\nTBC
URL:https://www.xfdapro.com/event/south-east-texas-state/
LOCATION:Texas Speed Bumps\, 130 Whispering Oak\, Lumberton\, TEXAS\, 77657\, United States
ATTACH;FMTTYPE=image/jpeg:https://www.xfdapro.com/wp-content/uploads/2026/02/SOUTH-EAST-TEXAS-STATE-2026.jpg
END:VEVENT
BEGIN:VEVENT
DTSTART;TZID=America/Chicago:20270507T080000
DTEND;TZID=America/Chicago:20270509T160000
DTSTAMP:20260422T063235
CREATED:20251218T124158Z
LAST-MODIFIED:20251218T124158Z
UID:10000045-1809676800-1809878400@www.xfdapro.com
SUMMARY:KANSAS STATE 2027
DESCRIPTION:THE KANSAS PEACE MAKERS\nKANSAS STATE 2027 \nDate & Location:\nMay 7th -9th 25 – Kansas Peace Makers Range\n33864 Tower\, Rd\, Kansas\, 67005 \nAbout the event: \nSaturday: Registration is 7:30-8:30\nPractice is 8:30- 9:00\nTOES ON THE LINE AT 9:30am
URL:https://www.xfdapro.com/event/kansas-state-2027/
LOCATION:The Kansas Peace Makers Range\, 33864 Tower\, Rd.  Arkansas City\, Ks.\, 33864 Tower\, Rd\, Kansas\, 67005\, United States
ATTACH;FMTTYPE=image/jpeg:https://www.xfdapro.com/wp-content/uploads/2025/12/KANSAS-STATE-2027-5.jpg
END:VEVENT
BEGIN:VEVENT
DTSTART;TZID=America/Chicago:20270618T080000
DTEND;TZID=America/Chicago:20270620T170000
DTSTAMP:20260422T063235
CREATED:20251203T153059Z
LAST-MODIFIED:20260320T131759Z
UID:10000042-1813305600-1813510800@www.xfdapro.com
SUMMARY:ALABAMA GUNSLINGERS - DISTRICT 2
DESCRIPTION:Time & Location\nJune 18\, 8am 2027 – June 20\, 4:00pm 2027\nLocation: 410 County Road 513 Centre Alabama 35960 \n  \nAbout the event:\nTBC
URL:https://www.xfdapro.com/event/alabama-gunslingers-district-2/
LOCATION:Alabama Gunslingers\, 410 County Road 513 Centre\, AL\, 35960\, United States
ATTACH;FMTTYPE=image/jpeg:https://www.xfdapro.com/wp-content/uploads/2025/12/alabama.jpg
END:VEVENT
BEGIN:VEVENT
DTSTART;TZID=America/Chicago:20270709T080000
DTEND;TZID=America/Chicago:20270711T160000
DTSTAMP:20260422T063235
CREATED:20260415T084012Z
LAST-MODIFIED:20260415T103240Z
UID:10000049-1815120000-1815321600@www.xfdapro.com
SUMMARY:NEW MEXICO STATE 2027
DESCRIPTION:We will add information to this event ASAP as we get them. \nTime & Location\nTBC \n  \nAbout the event \nTBC
URL:https://www.xfdapro.com/event/new-mexico-state-2027/
LOCATION:NRA WHITTINGTON CENTER\, Route 64-87-N.M. 555\,\, Raton\, New Mexico\, 87740\, United States
ATTACH;FMTTYPE=image/jpeg:https://www.xfdapro.com/wp-content/uploads/2026/04/NEW-MEXICO-STATE3.jpg
END:VEVENT
BEGIN:VEVENT
DTSTART;TZID=America/Chicago:20270806T080000
DTEND;TZID=America/Chicago:20270808T170000
DTSTAMP:20260422T063235
CREATED:20260415T084348Z
LAST-MODIFIED:20260415T103206Z
UID:10000050-1817539200-1817744400@www.xfdapro.com
SUMMARY:NATIONALS 2027
DESCRIPTION:We will add information to this event ASAP as we get them. \nTime & Location\nTBC \n  \nAbout the event \nTBC
URL:https://www.xfdapro.com/event/nationals-2027/
ATTACH;FMTTYPE=image/jpeg:https://www.xfdapro.com/wp-content/uploads/2026/04/NATIONALS1.jpg
END:VEVENT
BEGIN:VEVENT
DTSTART;TZID=America/Chicago:20270924T080000
DTEND;TZID=America/Chicago:20270926T160000
DTSTAMP:20260422T063235
CREATED:20260415T102944Z
LAST-MODIFIED:20260415T103115Z
UID:10000052-1821772800-1821974400@www.xfdapro.com
SUMMARY:WORLDS 2027
DESCRIPTION:We will add information to this event ASAP as we get them. \nTime & Location\nTBC \n  \nAbout the event \nTBC
URL:https://www.xfdapro.com/event/worlds-2027/
ATTACH;FMTTYPE=image/png:https://www.xfdapro.com/wp-content/uploads/2026/04/WORLDS-2027-1.png
END:VEVENT
BEGIN:VEVENT
DTSTART;TZID=America/Chicago:20271030T080000
DTEND;TZID=America/Chicago:20271030T160000
DTSTAMP:20260422T063235
CREATED:20260204T200957Z
LAST-MODIFIED:20260320T131909Z
UID:10000046-1824883200-1824912000@www.xfdapro.com
SUMMARY:GHOULS & GUNS - 20 POINT SHOOT
DESCRIPTION:Time & Location\nOct 30th 2027\nRegistration starts at 7:30AM\nMatch begins at 9AM \n  \nLocation: 130 Whispering Oak\, Lumberton\, TX 77657 \n  \nAbout the event\n20 Point Shoot\nFurther Info – TBC
URL:https://www.xfdapro.com/event/ghouls-and-guns-2027/
LOCATION:Texas Speed Bumps\, 130 Whispering Oak\, Lumberton\, TEXAS\, 77657\, United States
ATTACH;FMTTYPE=image/jpeg:https://www.xfdapro.com/wp-content/uploads/2026/02/Ghouls-and-Guns-2027.jpg
END:VEVENT
BEGIN:VEVENT
DTSTART;TZID=America/Chicago:20271204T080000
DTEND;TZID=America/Chicago:20271205T170000
DTSTAMP:20260422T063235
CREATED:20251218T123534Z
LAST-MODIFIED:20251218T123549Z
UID:10000044-1827907200-1828026000@www.xfdapro.com
SUMMARY:BAD SANTA -20 POINT SHOOT
DESCRIPTION:THE KANSAS PEACE MAKERS\nBAD SANTA ANNUAL YEAR 2027 \nDate & Location:\nDec 4th -5th 25 – Kansas Peace Makers Range\n33864 Tower\, Rd\, Kansas\, 67005 \nAbout the event: \nSaturday: Registration is 7:30-8:30\nPractice is 8:30- 9:00\nTOES ON THE LINE AT 9:30am
URL:https://www.xfdapro.com/event/bad-santa-20-point-shoot/
LOCATION:The Kansas Peace Makers Range\, 33864 Tower\, Rd.  Arkansas City\, Ks.\, 33864 Tower\, Rd\, Kansas\, 67005\, United States
ATTACH;FMTTYPE=image/jpeg:https://www.xfdapro.com/wp-content/uploads/2025/12/KANSAS-BAD-SANTA-2027-2.jpg
END:VEVENT
END:VCALENDAR